Workbook
Name AccountNames: #REF!
Name ExpenditureAllocations: #REF!
Name IncomeAllocations: #REF!
Name StartPeriodBalance: #REF!

Sheet Summary
B1: Monthly Finance Current Totals
B3: In the bank | F3: Monthly
B4: Reserve | C4: ='I & E 26 to 27'!C11-'I & E 26 to 27'!C10 -> 41800 | F4: Receipts this month | G4: ='Monthly Reconcilitation'!B5 -> 19202.27
B5: ='I & E 26 to 27'!A10 -> CIL Balance | C5: ='I & E 26 to 27'!C10 -> 46412.55 | F5: Payments this month | G5: ='Monthly Reconcilitation'!E4 -> 7550.07
B6: ='I & E 26 to 27'!A13 -> Cash available (unreserved) | C6: ='I & E 26 to 27'!C13 -> 44194.29
F7: ='I & E 26 to 27'!A113 -> Burial Ground Breakdown
B8: Forecast to 31st March | F8: ='I & E 26 to 27'!A114 -> Income | G8: ='I & E 26 to 27'!C114 -> 12795
B9: =Forecast!B12 -> Committed spend - CIL | C9: =Forecast!C12 -> 11914.8 | F9: ='I & E 26 to 27'!A115 -> Spend - excluding Salary | G9: ='I & E 26 to 27'!C115 -> 745.96
B10: =Forecast!B13 -> Committed spend - Other | C10: =Forecast!C13 -> 19703.94 | F10: ='I & E 26 to 27'!A116 -> Spend - Salary | G10: ='I & E 26 to 27'!C116 -> 1341.0942
B11: =Forecast!B14 -> Training, maintenance, litterpick budget | C11: =Forecast!C14 -> 2625 | F11: Spend - Projects | G11: ='I & E 26 to 27'!C117 -> 9572.72
B12: =Forecast!B15 -> Forecast income | C12: =Forecast!C15 -> 1664.01 | F12: ='I & E 26 to 27'!A118 -> Total | G12: ='I & E 26 to 27'!C118 -> 1135.2258
B13: =Forecast!B19 -> If we go ahead with Tranquil Woods purchase and initial setup | C13: =Forecast!C19 -> 38800
B14: =Forecast!B20 -> Total CIL leftover | C14: =Forecast!C20 -> 0 | F14: Future Projects Wishlist | G14: =Forecast!G27 -> 47650
B15: =Forecast!B21 -> Total cash leftover | C15: =Forecast!C21 -> 19227.11

Sheet I & E 26 to 27
A2: Bank Balance B/F 31/03/2026 | B2: 126258.96
A3: Current Bank Balance | B3: ='Monthly Reconcilitation'!B14 -> 132406.84
C4: 2026/2027
A5: Reserve | C5: Actual | D5: Budget
A6: Ring Fenced Elections & Deposits | C6: 2800 | D6: 15000
A7: Ring Fenced Legal & Professional Costs | C7: 2000 | D7: 5000
A8: Ring Fenced IT / Defibrillators | C8: 1000 | D8: 2000
A9: Reserve (9months x avg monthly spend) e.g. if Locum needed | C9: 36000
A10: CIL Balance | C10: ='CIL Report'!I8 -> 46412.55 | D10: 56853.17
A11: Total Ring fenced | C11: =SUM(C6:C10) -> 88212.55 | D11: 78853.17
A13: Cash available (unreserved) | C13: =B3-C11 -> 44194.29 | D13: =B2-D11 -> 47405.79
A15: RECEIPTS | C15: 2026/2027 | F15: 2025/2026 | H15: Comments
B16: Code | C16: Actual | D16: Budget | E16: YTD % | F16: Actual
A17: Allotment Income | B17: INC001 | C17: 280.54 | D17: 260 | E17: =IF(IFERROR(C17/D17,0)=0,0,C17/D17) -> 1.079 | F17: 210 | H17: =IF(I17=0,"","Over budget by") -> Over budget by | I17: =IF(IF((ISERROR(D17-C17<0))=TRUE,0,-(D17-C17))<0,0,IF((ISERROR(D17-C17<0))=TRUE,0,-(D17-C17))) -> 20.54
A18: Bank Interest | B18: INC002 | C18: 246.55 | D18: 500 | E18: =IF(IFERROR(C18/D18,0)=0,0,C18/D18) -> 0.4931 | F18: 680.35 | H18: =IF(I18=0,"","Over budget by") | I18: =IF(IF((ISERROR(D18-C18<0))=TRUE,0,-(D18-C18))<0,0,IF((ISERROR(D18-C18<0))=TRUE,0,-(D18-C18))) -> 0
A19: Burial ground Income | B19: INC003 | C19: 12795 | D19: 15000 | E19: =IF(IFERROR(C19/D19,0)=0,0,C19/D19) -> 0.853 | F19: 21680 | H19: =IF(I19=0,"","Over budget by") | I19: =IF(IF((ISERROR(D19-C19<0))=TRUE,0,-(D19-C19))<0,0,IF((ISERROR(D19-C19<0))=TRUE,0,-(D19-C19))) -> 0
A20: CIL Payments | B20: INC004 | C20: 0 | D20: 0 | E20: =IF(IFERROR(C20/D20,0)=0,0,C20/D20) -> 0 | F20: 0 | H20: =IF(I20=0,"","Over budget by") | I20: =IF(IF((ISERROR(D20-C20<0))=TRUE,0,-(D20-C20))<0,0,IF((ISERROR(D20-C20<0))=TRUE,0,-(D20-C20))) -> 0
A21: Concurrent Service Payment | B21: INC005 | C21: 2429 | D21: 2429 | E21: =IF(IFERROR(C21/D21,0)=0,0,C21/D21) -> 1 | F21: 2429 | H21: =IF(I21=0,"","Over budget by") | I21: =IF(IF((ISERROR(D21-C21<0))=TRUE,0,-(D21-C21))<0,0,IF((ISERROR(D21-C21<0))=TRUE,0,-(D21-C21))) -> 0
A22: CT Support Scheme Payment | B22: INC006 | C22: 676 | D22: 676 | E22: =IF(IFERROR(C22/D22,0)=0,0,C22/D22) -> 1 | F22: 676 | H22: =IF(I22=0,"","Over budget by") | I22: =IF(IF((ISERROR(D22-C22<0))=TRUE,0,-(D22-C22))<0,0,IF((ISERROR(D22-C22<0))=TRUE,0,-(D22-C22))) -> 0
A23: Other Receipts | B23: INC007 | C23: 0 | D23: 0 | E23: =IF(IFERROR(C23/D23,0)=0,0,C23/D23) -> 0 | F23: 90 | H23: =IF(I23=0,"","Over budget by") | I23: =IF(IF((ISERROR(D23-C23<0))=TRUE,0,-(D23-C23))<0,0,IF((ISERROR(D23-C23<0))=TRUE,0,-(D23-C23))) -> 0
A24: Precept | B24: INC008 | C24: 29448.694 | D24: 29448.69 | E24: =IF(IFERROR(C24/D24,0)=0,0,C24/D24) -> 1.0000001 | F24: 22652.84 | H24: =IF(I24=0,"","Over budget by") -> Over budget by | I24: =IF(IF((ISERROR(D24-C24<0))=TRUE,0,-(D24-C24))<0,0,IF((ISERROR(D24-C24<0))=TRUE,0,-(D24-C24))) -> 0.004
A25: VAT Reclaim | B25: INC009 | C25: 2117.02 | D25: 4000 | E25: =IF(IFERROR(C25/D25,0)=0,0,C25/D25) -> 0.529255 | F25: 4590.92 | H25: =IF(I25=0,"","Over budget by") | I25: =IF(IF((ISERROR(D25-C25<0))=TRUE,0,-(D25-C25))<0,0,IF((ISERROR(D25-C25<0))=TRUE,0,-(D25-C25))) -> 0
A26: Total excluding Precept | C26: =SUM(C17:C25)-C24 -> 18544.11 | D26: 22865 | E26: =IF(IFERROR(C26/D26,0)=0,0,C26/D26) -> 0.81102602 | F26: 30356.27 | H26: =IF(I26=0,"","Over budget by") | I26: =IF(IF((ISERROR(D26-C26<0))=TRUE,0,-(D26-C26))<0,0,IF((ISERROR(D26-C26<0))=TRUE,0,-(D26-C26))) -> 0
A27: Total Receipts | C27: =SUM(C17:C25) -> 47992.804 | D27: 52313.69 | E27: =IF(IFERROR(C27/D27,0)=0,0,C27/D27) -> 0.9174043 | F27: 53009.11 | H27: =IF(I27=0,"","Over budget by") | I27: =IF(IF((ISERROR(D27-C27<0))=TRUE,0,-(D27-C27))<0,0,IF((ISERROR(D27-C27<0))=TRUE,0,-(D27-C27))) -> 0
H28: =IF(I28=0,"","Over budget by")
A29: PAYMENTS | H29: =IF(I29=0,"","Over budget by")
A30: Clerk Running Costs | H30: =IF(I30=0,"","Over budget by")
A31: Clerks Salary | B31: CL000 | C31: REDACTED | D31: 22156.68 | E31: =IF(IFERROR(C31/D31,0)=0,0,C31/D31) -> 0 | F31: 14221.06 | H31: =IF(I31=0,"","Over budget by") | I31: =IF(IF((ISERROR(D31-C31<0))=TRUE,0,-(D31-C31))<0,0,IF((ISERROR(D31-C31<0))=TRUE,0,-(D31-C31))) -> 0
A32: Employee's Tax | B32: CL014 | C32: REDACTED | D32: 0 | E32: =IF(IFERROR(C32/D32,0)=0,0,C32/D32) -> 0 | F32: 2859.2
A33: Employee's NI | B33: CL001 | C33: REDACTED | D33: 0 | E33: =IF(IFERROR(C33/D33,0)=0,0,C33/D33) -> 0 | F33: 269.53 | K33: `
A34: Employers NI | B34: CL002 | C34: REDACTED | D34: 2573.5 | E34: =IF(IFERROR(C34/D34,0)=0,0,C34/D34) -> 0 | F34: 1700.86 | H34: =IF(I34=0,"","Over budget by") | I34: =IF(IF((ISERROR(D34-C34<0))=TRUE,0,-(D34-C34))<0,0,IF((ISERROR(D34-C34<0))=TRUE,0,-(D34-C34))) -> 0
A35: Pension Employer | B35: PL001 | C35: REDACTED | D35: 350 | E35: =IF(IFERROR(C35/D35,0)=0,0,C35/D35) -> 0 | F35: 309.79 | H35: =IF(I35=0,"","Over budget by") | I35: =IF(IF((ISERROR(D35-C35<0))=TRUE,0,-(D35-C35))<0,0,IF((ISERROR(D35-C35<0))=TRUE,0,-(D35-C35))) -> 0
A36: Pension Employee | B36: PL002 | C36: REDACTED | D36: 0 | E36: =IF(IFERROR(C36/D36,0)=0,0,C36/D36) -> 0 | F36: 390.38
A37: Total Clerk Running Costs | C37: 16093.13 | D37: 25080.18 | E37: =IF(IFERROR(C37/D37,0)=0,0,C37/D37) -> 0.64166724 | F37: 19750.82 | H37: =IF(I37=0,"","Over budget by") | I37: =IF(IF((ISERROR(D37-C37<0))=TRUE,0,-(D37-C37))<0,0,IF((ISERROR(D37-C37<0))=TRUE,0,-(D37-C37))) -> 0
A39: General Council Running Costs
A40: Clerk Mileage | B40: CL007 | C40: 258.12 | D40: 1200 | E40: =IF(IFERROR(C40/D40,0)=0,0,C40/D40) -> 0.2151 | F40: 1194.3 | H40: =IF(I40=0,"","Over budget by") | I40: =IF(IF((ISERROR(D40-C40<0))=TRUE,0,-(D40-C40))<0,0,IF((ISERROR(D40-C40<0))=TRUE,0,-(D40-C40))) -> 0
A41: Payroll admin expenses (external supplier) | B41: CL011 | C41: 287 | D41: 200 | E41: =IF(IFERROR(C41/D41,0)=0,0,C41/D41) -> 1.435 | F41: 211 | H41: =IF(I41=0,"","Over budget by") -> Over budget by | I41: =IF(IF((ISERROR(D41-C41<0))=TRUE,0,-(D41-C41))<0,0,IF((ISERROR(D41-C41<0))=TRUE,0,-(D41-C41))) -> 87
A42: Office Expenses - Stationery | B42: CL009 | C42: 62.78 | D42: 200 | E42: =IF(IFERROR(C42/D42,0)=0,0,C42/D42) -> 0.3139 | F42: 163.24 | H42: =IF(I42=0,"","Over budget by") | I42: =IF(IF((ISERROR(D42-C42<0))=TRUE,0,-(D42-C42))<0,0,IF((ISERROR(D42-C42<0))=TRUE,0,-(D42-C42))) -> 0
A43: Office Expenses - Postage | B43: CL008 | C43: 0 | D43: 10 | E43: =IF(IFERROR(C43/D43,0)=0,0,C43/D43) -> 0 | F43: 6.8 | H43: =IF(I43=0,"","Over budget by") | I43: =IF(IF((ISERROR(D43-C43<0))=TRUE,0,-(D43-C43))<0,0,IF((ISERROR(D43-C43<0))=TRUE,0,-(D43-C43))) -> 0
A44: Office Expenses - webhosting & email | B44: CL012 | C44: 0 | D44: 0 | E44: =IF(IFERROR(C44/D44,0)=0,0,C44/D44) -> 0 | F44: 131.57 | H44: =IF(I44=0,"","Over budget by") | I44: =IF(IF((ISERROR(D44-C44<0))=TRUE,0,-(D44-C44))<0,0,IF((ISERROR(D44-C44<0))=TRUE,0,-(D44-C44))) -> 0
...

Sheet CIL Report
A1: CIL Report
E2: Pot | F2: CIL TOTAL | G2: Expiry Date | I2: Spend to date | J2: Left to Spend
B3: MUST SPEND POT A BY 30/3/27 | E3: A | F3: 45749.26 | G3: 46477 | I3: =SUM(D12:D39) -> 35922.74 | J3: =F3-I3 -> 9826.52
B4: MUST SPEND POT B BY 30/3/27 | E4: B | F4: 15594.86 | G4: 46477 | I4: 0 | J4: =F4-I4 -> 15594.86
E5: C | F5: 16450.71 | G5: 47080 | I5: 0 | J5: =F5-I5 -> 16450.71
E6: D | F6: 4540.46 | G6: 47261 | I6: 0 | J6: =F6-I6 -> 4540.46
E7: TOTAL | F7: =SUM(F3:F6) -> 82335.29
E8: TOTAL LEFT TO SPEND | I8: =SUM(J3:J6) -> 46412.55
E9: TOTAL TO SPEND BY 30/3/27 | I9: =J3+J4 -> 25421.38
A11: Pot | B11: Item | C11: Date | D11: Amount (ex VAT) | E11: Status
A12: CIL Pot A | B12: Kissing Gate for Snowerhill | C12: 44603 | D12: 407.88 | E12: Paid
A13: CIL Pot A | B13: Defibrillator for Post Office | C13: 44876 | D13: 1174.99 | E13: Paid
A14: CIL Pot A | B14: Village Gateways | C14: 44971 | D14: 4123.5 | E14: Paid
A15: CIL Pot A | B15: Gate on GG | C15: 45335 | D15: 1368 | E15: Paid
A16: CIL Pot A | B16: Playground Provision DEPOSIT | C16: 45448 | D16: 4103.87 | E16: Paid
A17: CIL Pot A | B17: Playground Provision | C17: 45510 | D17: 2573.88 | E17: Paid
A18: CIL Pot A | B18: Gate Church Path | C18: 45565 | D18: 1740 | E18: Paid
A19: CIL Pot A | B19: Village Planters | C19: 45629 | D19: 320 | E19: Paid
A20: CIL Pot A | B20: Church Farm Footpath | C20: 45734 | D20: 4245 | E20: Paid
A21: CIL Pot A | B21: Church Farm Footpath | C21: 45736 | D21: 825 | E21: Paid
A22: CIL Pot A | B22: GG Benches play area | C22: 45632 | D22: 250 | E22: Paid
A23: CIL Pot A | B23: Resurfacing Church Farm Path | C23: 46112 | D23: 4350 | E23: Paid
... A36: CIL Pot A | B36: Tranquil Wood COT, Survey & Report | C36: 46280 | D36: 1355 | E36: Paid
A37: CIL Pot A | B37: BG natural screen by new fence | E37: Pending
A38: CIL Pot A | B38: Fencing around Burial Ground | E38: Pending
A39: CIL Pot A | B39: Fencing around Allotments | E39: Pending

Sheet VAT Claim
A1: VAT Reclaim
A2: VAT for the period 01/04/2026 - 31/08/2026 Claimed on 11/09/2026 | F2: 2117.02
D4: 1/9/26-30/9/26 | E4: Pending claim | F4: 524.01

Sheet Monthly Reconcilitation
A1: MONTHLY RECONCILIATIONS
A2: September
B3: £ | E3: £
A4: Balance B/F | B4: 120754.64 | D4: Payments | E4: 7550.07
A5: Income | B5: 19202.27 | D5: Bank balance from Accounts | E5: 132406.84
A8: Total | B8: 139956.91 | D8: Total | E8: 139956.91
A10: Balance as at 30th Sep | D10: Total Accounts | E10: 132406.84
A11: HSBC Current Account | B11: 20652.36
A12: HSBC Reserve Account | B12: 62791.83 | D12: Difference | E12: 0
A13: Unity Account | B13: 48962.65
B14: 132406.84
D17: Total not presented | E17: 0
D18: Accounts Total | E18: 132406.84
D19: Balance C/F | E19: 132406.84

Sheet Forecast
B2: 1. Current Balance | F2: 3. Future Projects
B3: The balance of Council funds is | C3: ='Monthly Reconcilitation'!B14 -> 132406.84 | F3: Project | G3: Estimate (£ ex VAT) | H3: Comment
B4: Keeping reserve of | C4: ='I & E 26 to 27'!C9+'I & E 26 to 27'!C8+'I & E 26 to 27'!C7+'I & E 26 to 27'!C6 -> 41800 | F4: Tranquil Woods – Annual maintenance | G4: 4000
B5: Funds for CIL spend | C5: ='CIL Report'!I8 -> 46412.55 | F5: Tranquil Woods – year 1 | G5: 25000
B6: Funds for unreserved spend. | C6: =C3-C4-C5 -> 44194.29 | F6: TOTAL Woodland | G6: =SUM(G4:G5) -> 29000
F8: Village Plan - consultancy | G8: 6000 | H8: Nice to have
B9: 2. Forecast March 27 position | F9: Burial Ground parking space | G9: 8000 | H9: Nice to have
F10: Allotment fencing (BG side) | G10: 2000 | H10: Nice to have
B11: Item | C11: Total (ex VAT) | F11: Defib at the Hamilton room | G11: 3500 | H11: Nice to have
B12: Committed spend - CIL | C12: ='Forecast Calcs'!D9 -> 11914.8 | F12: School railings | G12: 5000 | H12: Nice to have
B13: Committed spend - Other | C13: ='Forecast Calcs'!D10 -> 19703.94 | F13: Flooding signs, depth marker posts and sensor bollard | G13: 10000 | H13: Might be grant funded
B14: Training, maintenance, litterpick budget | C14: ='Forecast Calcs'!D11 -> 2625 | F14: Track resurfacing by Burial Ground | G14: 1000 | H14: Must have
B15: Forecast income | C15: ='Forecast Calcs'!D12 -> 1664.01 | F15: Arrow sign for the Burial Ground to help visitors find it | G15: 100 | H15: Nice to have
B16: Total CIL leftover | C16: =C5-C12 -> 34497.75 | F16: Tarmac coffin path patch updates | G16: 2000 | H16: Nice to have
B17: Total cash leftover | C17: =C6-C13-C14+C15 -> 23529.36 | F17: Village weather station? | G17: 240 | H17: Nice to have
F18: Replace old rope fence in burial ground | G18: 400 | H18: Must have
B19: If we go ahead with Tranquil Woods purchase and initial setup | C19: ='Forecast Calcs'!D16 -> 38800 | F19: storage shed? | G19: 310 | H19: Nice to have
B20: Total CIL leftover | C20: 0 | F20: gravel boards on new fence at BG | G20: 200 | H20: Nice to have
B21: Total cash leftover | C21: =C17-(C19-C16) -> 19227.11 | F21: Tree work on big oak as per tree survey plan | G21: 300 | H21: Must have
F22: Consecrate Burial Ground hamilton strip | G22: 500 | H22: Must have
B23: If we don’t go ahead with Tranquil Woods purchase and initial setup | C23: ='Forecast Calcs'!D20 -> 1355 | F23: Fix bollards on Pebblehill Road? | G23: 100 | H23: Nice to have
B24: Total CIL leftover | C24: =C16 -> 34497.75 | F24: Wheelchair friendly path through Burial Ground? | G24: 8000 | H24: Nice to have
B25: Total cash leftover | C25: =C17-C23 -> 22174.36 | F25: Poppies 40cm (H) x 36cm (W) £8 each https://www.poppyshop.org.uk/products/large-event-poppy | G25: =8*10 -> 80 | H25: Nice to have
F26: Skooter Park | H26: Nice to have
F27: TOTAL excluding Woodland | G27: =SUM(G8:G24) -> 47650

Sheet Timesheet
B2: Katie | R2: Hannah
B3: Sum of Hours Worked | C3: Project Code | R3: Sum of Hours Worked | S3: Project Code
B4: Date_Month | C4: admin | D4: Admn | E4: Allot | F4: BG1 | G4: Checks | H4: Finance | I4: flood | J4: GG | K4: Holiday | L4: Plan | M4: Train | N4: website | O4: Wood | P4: Grand Total | R4: Date_Month | S4: Admin | T4: Admin/Finance | U4: Defib | V4: Defib/signs | W4: Finance | X4: Finance/Defib | Y4: Holiday | Z4: Grand Total
B5: Apr | F5: 42.25 | G5: 1 | J5: 1 | M5: 3 | O5: 5 | P5: 52.25 | R5: Jul | S5: 2.5 | U5: 1 | W5: 4 | X5: 2.5 | Y5: 8.2 | Z5: 18.2
B6: May | C6: 0.5 | E6: 7 | F6: 28.5 | G6: 1 | J6: 2 | P6: 39 | R6: Aug | S6: 1 | W6: 13 | Y6: 6 | Z6: 20
B7: Jun | C7: 68.75 | F7: 19 | G7: 1 | J7: 0.75 | O7: 2.5 | P7: 92 | R7: Sep | S7: 5 | T7: 0.5 | V7: 1.5 | W7: 9.5 | Z7: 16.5
B8: Jul | C8: 70.5 | D8: 2 | F8: 8.5 | H8: 19 | I8: 0.5 | J8: 4 | L8: 6 | M8: 2 | N8: 1 | O8: 9.75 | P8: 123.25 | R8: Oct | S8: 3 | Z8: 3
B9: Aug | C9: 109 | F9: 3.5 | K9: 15 | P9: 127.5 | R9: Grand Total | S9: 11.5 | T9: 0.5 | U9: 1 | V9: 1.5 | W9: 26.5 | X9: 2.5 | Y9: 14.2 | Z9: 57.7
B10: Sep | C10: 127.5 | E10: 3.5 | F10: 10 | P10: 141
B11: Oct | C11: 23 | F11: 1.5 | P11: 24.5
B12: Grand Total | C12: 399.25 | D12: 2 | E12: 10.5 | F12: 113.25 | G12: 3 | H12: 19 | I12: 0.5 | J12: 7.75 | K12: 15 | L12: 6 | M12: 5 | N12: 1 | O12: 17.25 | P12: 599.5

Sheet Forecast Calcs
C1: Bank position for GO and NOGO decision on the Woods | G1: WOODLAND - Spend Forecast
C3: bank balance as at 30 Sept | D3: 132406.84 | G3: Phase | H3: Item | I3: Total exVAT £ | J3: Status
C4: reserve | D4: 41800 | G4: Already spent | H4: COTS tree survey | I4: 1355 | J4: paid
C5: CIL | D5: 46412.55
C6: open spend | D6: 44194.29
G7: Phase | H7: Item | I7: Total exVAT £ | J7: Status
G8: Purchase | H8: Purchase land | I8: REDACTED | J8: Price agreed with seller
C9: Committed spend - CIL | D9: 11914.8 | G9: Purchase | H9: Seller fees | I9: REDACTED | J9: Estimate provided by seller
C10: Committed spend - Other | D10: 19703.94 | G10: Purchase | H10: Council solicitor fees | I10: REDACTED | J10: Estimate provided by approved solicitor
C11: Training, maintenance, litterpick budget | D11: 2625 | G11: Purchase | H11: Valuation | I11: REDACTED | J11: Quote approved by Council
C12: Forecast income | D12: 1664.01 | G12: Purchase | H12: Contingency on solicitor fees | I12: REDACTED
C13: Total CIL leftover | D13: 34497.75 | H13: TOTAL | I13: =SUM(I8:I12) -> 0
C14: Total cash leftover | D14: 23529.36
G15: Phase | H15: Item | I15: Total exVAT £ | J15: Status
C16: If we go ahead with Tranquil Woods purchase and initial setup | D16: 38800 | G16: Initial Setup | H16: Initial tree works to de-risk trees along road and public footpath | I16: 10000 | J16: Quotes being received
C17: Total CIL leftover | D17: 0 | G17: Initial Setup | H17: Felling licence | I17: 0 | J17: No charge
C18: Total cash leftover | D18: 19227.11 | G18: Initial Setup | H18: Fencing – wire mesh to supplement repair of existing fence along with installation of dry hedging by volunteers & gate | I18: 300 | J18: Estimate
G19: Initial Setup | H19: Signs | I19: 300 | J19: Estimate
C20: If we don’t go ahead with Tranquil Woods purchase and initial setup | D20: 1355 | G20: Initial Setup | H20: Fence off broken railings where stream meets Old Road | I20: 100 | J20: estimate
C21: Total CIL leftover | D21: 35852.75 | H21: TOTAL | I21: =SUM(I16:I20) -> 10700
C22: Total cash leftover | D22: 22174.36
G23: Phase year 1 | H23: Item | I23: Total exVAT £ | J23: Status
G24: year 1 | H24: tree survey of internal path & forest school | I24: 500 | J24: Estimate
G25: year 1 | H25: tree works to de-risk trees along internal path / forest school | I25: 10000 | J25: Estimate
G26: year 1 | H26: make internal path | I26: 0 | J26: Estimate
G27: year 1 | H27: bamboo | I27: 2000 | J27: Estimate
G28: year 1 | H28: Signs | I28: 300 | J28: Estimate
G29: year 1 | H29: Ecology Survey | I29: 3000 | J29: Quote approved by Council
G30: year 1 | H30: Digital Mapping and Path Mapping (Map the property’s boundaries, access points, hazards, features, sensitivities and notable trees to support well-reasoned management decisions.) | I30: 50 | J30: Volunteer activity?
G31: year 1 | H31: Remove metal sheet piling and broken excavator | I31: 1000 | J31: Estimate
G32: year 1 | H32: railings where stream meets Old Road | I32: 1000 | J32: Estimate
G33: year 1 | H33: metal gate entrance by car park | I33: 2000 | J33: Estimate
G34: year 1 | H34: install water monitoring device | I34: 3620 | J34: Estimate
H35: TOTAL | I35: =SUM(I24:I34) -> 23470
G37: Phase year 2 | H37: Item | I37: Total exVAT £ | J37: Status

Sheet Outgoing
A1: Forecast Outgoing Calculations
B2: Area | C2: Item | D2: When | E2: Total exVAT £ | F2: Status | H2: Committed Spend TOTAL
H3: Committed spend (CIL): | I3: 11914.8
A4: CIL | B4: Allotment | C4: Fencing - Josh Flynn | D4: October | E4: REDACTED | F4: quote approved at Council | H4: Other committed spend: | I4: 19703.94
A5: CIL | B5: Burial Ground | C5: Fencing - Farm Fencing | D5: September | E5: REDACTED | F5: invoiced | H5: Training, maintenance, litterpick budget, village plan | I5: 2625
A6: CIL | B6: Burial Ground | C6: Shrub planting– Hope Nursery | D6: October | E6: REDACTED | F6: quote approved at Council
A7: CIL | B7: Footpath | C7: Poo signs | D7: Autumn | E7: REDACTED | F7: invoiced
C11: Item | E11: Total £ (ex vat) | F11: Status
A12: general | C12: Unity bank fees (£7 a month) | E12: =7*6 -> 42
A13: general | C13: Staff Training | E13: 445 | F13: Playground inspection course & Cllr course
A14: general | C14: Clerk Salary | E14: REDACTED
A15: general | C15: HMRC - employer | E15: 0 | F15: Based on HMRC calculator | G15: https://www.tax.service.gov.uk/guidance/paye-tax-calculator
A16: general | C16: NI - employer | E16: REDACTED | F16: Based on HMRC calculator | G16: https://www.tax.service.gov.uk/guidance/work-out-employer-employee-national-insurance-contributions/
A17: general | C17: Pension - employer (3%) | E17: REDACTED | F17: Based on HMRC calculator
A18: general | C18: Clerk Mobile | E18: =8*6 -> 48 | F18: Scheduled per month
A19: general | C19: Audit | E19: =333 -> 333 | F19: £81 per hour plus travel
A20: general | C20: Room hire | E20: =25*7 -> 175 | F20: Scheduled £25 per month
A21: general | C21: Grounds Maintenance | E21: =713.75*2 -> 1427.5
A22: general | C22: Clear Burial Ground spoil heap | E22: 325 | F22: Estimate
A23: general | C23: Adhoc Maintenance | E23: 1000 | F23: Estimate
A24: general | C24: Playground Check | E24: 80 | F24: Based on quote. Not needed if course attended.
A25: general | C25: Climate event | E25: =61+50 -> 111 | F25: Hall plus drinks
A26: general | C26: Community events | E26: 100 | F26: Estimate e.g. litter pick bbq, climate refreshment
A27: general | C27: Tree Plaque | E27: REDACTED | F27: Based on quote
A28: general | C28: Village Plan - survey | E28: REDACTED
A29: general | C29: Poppies | E29: 80
C30: TOTAL | E30: 22328.94

Sheet Income
B1: Forecast income 1Oct to 31 Mar
B3: Item | C3: Total £
B4: Bank Interest (£50 a month) | C4: =50*6 -> 300
B5: VAT Reclaim | C5: ='VAT Claim'!F4 -> 524.01
B6: Burial Ground (known income) | C6: =420+420 -> 840
B7: Allotment
B8: TOTAL | C8: =SUM(C4:C7) -> 1664.01
