Workbook
Name AccountNames: #REF!
Name ExpenditureAllocations: #REF!
Name IncomeAllocations: #REF!
Name StartPeriodBalance: #REF!

Sheet Summary
B1: Monthly Finance Current Totals
B3: ='I & E 26 to 27'!A3 -> Current Bank Balance | C3: ='I & E 26 to 27'!B3 -> 120754.64
B5: ='I & E 26 to 27'!A10 -> Ring Fenced CIL Balance | C5: ='I & E 26 to 27'!C10 -> 47767.55
B6: ='I & E 26 to 27'!A12 -> Cash available (General) | C6: ='I & E 26 to 27'!C12 -> 18987.09
B8: ='I & E 26 to 27'!A26 -> Total Receipts | C8: ='I & E 26 to 27'!C26 -> 28790.53
B9: ='I & E 26 to 27'!A99 -> Total CIL Payments | C9: ='I & E 26 to 27'!C99 -> 8773.6
B10: ='I & E 26 to 27'!A107 -> Total Payments excluding CIL | C10: ='I & E 26 to 27'!C107 -> 23398.23
B11: ='I & E 26 to 27'!A104 -> Total Payments inc CIL | C11: ='I & E 26 to 27'!C104 -> 32171.83

Sheet I & E 26 to 27
A2: Bank Balance B/F 31/03/2026 | B2: 126258.96
A3: Current Bank Balance | B3: ='Monthly Reconcilitation'!B16 -> 120754.64
C4: 2026/2027
A5: Reserve | C5: Actual | D5: Budget
A6: Ring Fenced Elections & Deposits | C6: 2000 | D6: 15000
A7: Ring Fenced Legal & Professional Costs | C7: 2000 | D7: 5000
A8: Ring Fenced IT / Defibrillators | C8: 0 | D8: 2000
A9: Reserve (12months x avg monthly spend) e.g. if Locum needed | C9: 50000
A10: Ring Fenced CIL Balance | C10: ='CIL Report'!I8 -> 47767.55 | D10: 56853.17
A11: Total Ring fenced | C11: =SUM(C6:C10) -> 101767.55 | D11: 78853.17
A12: Cash available (General) | C12: =B3-C11 -> 18987.09 | D12: =B2-D11 -> 47405.79
A14: RECEIPTS | C14: 2026/2027 | F14: 2025/2026 | H14: Comments
B15: Code | C15: Actual | D15: Budget | E15: YTD % | F15: Actual
A16: Allotment Income | B16: INC001 | C16: 280.54 | D16: 260 | E16: =IF(IFERROR(C16/D16,0)=0,0,C16/D16) -> 1.079 | F16: 210 | H16: =IF(I16=0,"","Over budget by") -> Over budget by | I16: =IF(IF((ISERROR(D16-C16<0))=TRUE,0,-(D16-C16))<0,0,IF((ISERROR(D16-C16<0))=TRUE,0,-(D16-C16))) -> 20.54
A17: Bank Interest | B17: INC002 | C17: 193.14 | D17: 500 | E17: =IF(IFERROR(C17/D17,0)=0,0,C17/D17) -> 0.38628 | F17: 680.35 | H17: =IF(I17=0,"","Over budget by") | I17: =IF(IF((ISERROR(D17-C17<0))=TRUE,0,-(D17-C17))<0,0,IF((ISERROR(D17-C17<0))=TRUE,0,-(D17-C17))) -> 0
A18: Burial ground Income | B18: INC003 | C18: 12040 | D18: 15000 | E18: =IF(IFERROR(C18/D18,0)=0,0,C18/D18) -> 0.80266667 | F18: 21680 | H18: =IF(I18=0,"","Over budget by") | I18: =IF(IF((ISERROR(D18-C18<0))=TRUE,0,-(D18-C18))<0,0,IF((ISERROR(D18-C18<0))=TRUE,0,-(D18-C18))) -> 0
A19: CIL Payments | B19: INC004 | C19: £- | D19: 0 | E19: =IF(IFERROR(C19/D19,0)=0,0,C19/D19) -> 0 | F19: 0 | H19: =IF(I19=0,"","Over budget by") | I19: =IF(IF((ISERROR(D19-C19<0))=TRUE,0,-(D19-C19))<0,0,IF((ISERROR(D19-C19<0))=TRUE,0,-(D19-C19))) -> 0
A20: Concurrent Service Payment | B20: INC005 | C20: 1214.5 | D20: 2429 | E20: =IF(IFERROR(C20/D20,0)=0,0,C20/D20) -> 0.5 | F20: 2429 | H20: =IF(I20=0,"","Over budget by") | I20: =IF(IF((ISERROR(D20-C20<0))=TRUE,0,-(D20-C20))<0,0,IF((ISERROR(D20-C20<0))=TRUE,0,-(D20-C20))) -> 0
A21: CT Support Scheme Payment | B21: INC006 | C21: 338 | D21: 676 | E21: =IF(IFERROR(C21/D21,0)=0,0,C21/D21) -> 0.5 | F21: 676 | H21: =IF(I21=0,"","Over budget by") | I21: =IF(IF((ISERROR(D21-C21<0))=TRUE,0,-(D21-C21))<0,0,IF((ISERROR(D21-C21<0))=TRUE,0,-(D21-C21))) -> 0
A22: Other Receipts | B22: INC007 | C22: £- | D22: 0 | E22: =IF(IFERROR(C22/D22,0)=0,0,C22/D22) -> 0 | F22: 90 | H22: =IF(I22=0,"","Over budget by") | I22: =IF(IF((ISERROR(D22-C22<0))=TRUE,0,-(D22-C22))<0,0,IF((ISERROR(D22-C22<0))=TRUE,0,-(D22-C22))) -> 0
A23: Precept | B23: INC008 | C23: 14724.35 | D23: 29448.69 | E23: =IF(IFERROR(C23/D23,0)=0,0,C23/D23) -> 0.50000017 | F23: 22652.84 | H23: =IF(I23=0,"","Over budget by") | I23: =IF(IF((ISERROR(D23-C23<0))=TRUE,0,-(D23-C23))<0,0,IF((ISERROR(D23-C23<0))=TRUE,0,-(D23-C23))) -> 0
A24: VAT Reclaim | B24: INC009 | C24: £- | D24: 4000 | E24: =IF(IFERROR(C24/D24,0)=0,0,C24/D24) -> 0 | F24: 4590.92 | H24: =IF(I24=0,"","Over budget by") | I24: =IF(IF((ISERROR(D24-C24<0))=TRUE,0,-(D24-C24))<0,0,IF((ISERROR(D24-C24<0))=TRUE,0,-(D24-C24))) -> 0
A25: Total excluding Precept | C25: =SUM(C16:C24)-C23 -> 14066.18 | D25: 22865 | E25: =IF(IFERROR(C25/D25,0)=0,0,C25/D25) -> 0.61518391 | F25: 30356.27 | H25: =IF(I25=0,"","Over budget by") | I25: =IF(IF((ISERROR(D25-C25<0))=TRUE,0,-(D25-C25))<0,0,IF((ISERROR(D25-C25<0))=TRUE,0,-(D25-C25))) -> 0
A26: Total Receipts | C26: =SUM(C16:C24) -> 28790.53 | D26: 52313.69 | E26: =IF(IFERROR(C26/D26,0)=0,0,C26/D26) -> 0.55034409 | F26: 53009.11 | H26: =IF(I26=0,"","Over budget by") | I26: =IF(IF((ISERROR(D26-C26<0))=TRUE,0,-(D26-C26))<0,0,IF((ISERROR(D26-C26<0))=TRUE,0,-(D26-C26))) -> 0
H27: =IF(I27=0,"","Over budget by")
A28: PAYMENTS | H28: =IF(I28=0,"","Over budget by")
A29: Clerk Running Costs | H29: =IF(I29=0,"","Over budget by")
A30: Clerks Salary | B30: CL000 | H30: =IF(I30=0,"","Over budget by") | I30: =IF(IF((ISERROR(D30-C30<0))=TRUE,0,-(D30-C30))<0,0,IF((ISERROR(D30-C30<0))=TRUE,0,-(D30-C30))) -> 0
A31: Employee's Tax | B31: CL014
A32: Employee's NI | B32: CL001 | K32: `
A33: Employers NI | B33: CL002 | H33: =IF(I33=0,"","Over budget by") | I33: =IF(IF((ISERROR(D33-C33<0))=TRUE,0,-(D33-C33))<0,0,IF((ISERROR(D33-C33<0))=TRUE,0,-(D33-C33))) -> 0
A34: Pension Employer | B34: PL001 | H34: =IF(I34=0,"","Over budget by") | I34: =IF(IF((ISERROR(D34-C34<0))=TRUE,0,-(D34-C34))<0,0,IF((ISERROR(D34-C34<0))=TRUE,0,-(D34-C34))) -> 0
A35: Pension Employee | B35: PL002
A36: Total Clerk Running Costs | C36: 11998.96 | D36: 25080.18 | E36: 0.478424 | F36: 19750.82 | H36: =IF(I36=0,"","Over budget by") | I36: =IF(IF((ISERROR(D36-C36<0))=TRUE,0,-(D36-C36))<0,0,IF((ISERROR(D36-C36<0))=TRUE,0,-(D36-C36))) -> 0
A38: General Council Running Costs
A39: Clerk Mileage | B39: CL007 | C39: 258.12 | D39: 1200 | E39: =IF(IFERROR(C39/D39,0)=0,0,C39/D39) -> 0.2151 | F39: 1194.3 | H39: =IF(I39=0,"","Over budget by") | I39: =IF(IF((ISERROR(D39-C39<0))=TRUE,0,-(D39-C39))<0,0,IF((ISERROR(D39-C39<0))=TRUE,0,-(D39-C39))) -> 0
A40: Payroll admin expenses (external supplier) | B40: CL011 | C40: 287 | D40: 200 | E40: =IF(IFERROR(C40/D40,0)=0,0,C40/D40) -> 1.435 | F40: 211 | H40: =IF(I40=0,"","Over budget by") -> Over budget by | I40: =IF(IF((ISERROR(D40-C40<0))=TRUE,0,-(D40-C40))<0,0,IF((ISERROR(D40-C40<0))=TRUE,0,-(D40-C40))) -> 87
A41: Office Expenses - Stationery | B41: CL009 | C41: 62.78 | D41: 200 | E41: =IF(IFERROR(C41/D41,0)=0,0,C41/D41) -> 0.3139 | F41: 163.24 | H41: =IF(I41=0,"","Over budget by") | I41: =IF(IF((ISERROR(D41-C41<0))=TRUE,0,-(D41-C41))<0,0,IF((ISERROR(D41-C41<0))=TRUE,0,-(D41-C41))) -> 0
A42: Office Expenses - Postage | B42: CL008 | C42: 10 | D42: 10 | E42: =IF(IFERROR(C42/D42,0)=0,0,C42/D42) -> 1 | F42: 6.8 | H42: =IF(I42=0,"","Over budget by") | I42: =IF(IF((ISERROR(D42-C42<0))=TRUE,0,-(D42-C42))<0,0,IF((ISERROR(D42-C42<0))=TRUE,0,-(D42-C42))) -> 0
A43: Office Expenses - webhosting & email | B43: CL012 | C43: 37.45 | D43: 0 | E43: =IF(IFERROR(C43/D43,0)=0,0,C43/D43) -> 0 | F43: 131.57 | H43: =IF(I43=0,"","Over budget by") -> Over budget by | I43: =IF(IF((ISERROR(D43-C43<0))=TRUE,0,-(D43-C43))<0,0,IF((ISERROR(D43-C43<0))=TRUE,0,-(D43-C43))) -> 37.45
...

Sheet CIL Report
A1: CIL Report
E2: Pot | F2: CIL TOTAL | G2: Expiry Date | I2: Spend to date | J2: Left to Spend
B3: MUST SPEND POT A BY 30/3/27 | E3: A | F3: 45749.26 | G3: 46477 | I3: 34567.74 | J3: =F3-I3 -> 11181.52
B4: MUST SPEND POT B BY 30/3/27 | E4: B | F4: 15594.86 | G4: 46477 | I4: 0 | J4: =F4-I4 -> 15594.86
E5: C | F5: 16450.71 | G5: 47080 | I5: 0 | J5: =F5-I5 -> 16450.71
E6: D | F6: 4540.46 | G6: 47261 | I6: 0 | J6: =F6-I6 -> 4540.46
E7: TOTAL | F7: =SUM(F3:F6) -> 82335.29
E8: TOTAL LEFT TO SPEND | I8: =SUM(J3:J6) -> 47767.55
E9: TOTAL TO SPEND BY 30/3/27 | I9: =J3+J4 -> 26776.38

Sheet VAT Claim
A1: VAT Reclaim
A2: VAT for the period 01/04/2026 - 31/08/2026 Claimed on 11/09/2026 | F2: 2117.02

Sheet Monthly Reconcilitation
A1: MONTHLY RECONCILIATIONS
A3: August
B4: £ | E4: £
A5: Balance B/F | B5: 126351.27 | D5: Payments | E5: 6560.21
A6: Income | B6: 963.58 | D6: Bank balance from Accounts | E6: =B16 -> 120754.64
A9: Total | B9: =SUM(B5:B8) -> 127314.85 | D9: Total | E9: =SUM(E5:E8) -> 127314.85
D11: Total Accounts | E11: =SUM(B16) -> 120754.64
A12: HSBC Current Account | B12: 9046.57
A13: HSBC Reserve Account | B13: 52738.42 | D13: Difference | E13: =E9-B9 -> 0
A14: Unity Account | B14: 58969.65
B16: =SUM(B12:B15) -> 120754.64
D21: Total not presented | E21: =SUM(E12:E20) -> 0
D22: Accounts Total | E22: =E11-E21 -> 120754.64
D23: Balance C/F | E23: =SUM(E22:E22) -> 120754.64

Sheet Forecast
B2: 1. Current Balance | F2: 3. Future Projects
B3: The balance of Council funds is | C3: ='Monthly Reconcilitation'!B16 -> 120754.64 | F3: Project | G3: Estimate (£ ex VAT)
B4: Keeping reserve of | C4: ='I & E 26 to 27'!C9+'I & E 26 to 27'!C8+'I & E 26 to 27'!C7+'I & E 26 to 27'!C6 -> 54000 | F4: Tranquil Woods – Annual maintenance | G4: 4000
B5: Funds for CIL spend | C5: ='CIL Report'!I8 -> 47767.55 | F5: Tranquil Woods – year 1 | G5: 25000
B6: Funds for general spend. | C6: =C3-C4-C5 -> 18987.09 | F6: Tranquil Woods – year 2 | G6: TBC
F7: Village Plan | G7: 6000
F8: Burial Ground parking space | G8: 8000
B9: 2. Forecast March 27 position | F9: Allotment fencing | G9: 2000
F10: Defib at the Hamilton room | G10: 3000
B11: Item | C11: Total (ex VAT) | F11: School railings | G11: 2000
B12: Committed spend - CIL | C12: 10426 | F12: Flooding signs, depth marker posts and sensor bollard | G12: 10000
B13: Committed spend - Other | C13: 22005 | F13: Track resurfacing by Burial Ground | G13: 1000
B14: Training, maintenance, litterpick budget | C14: 1545 | F14: Arrow sign for the Burial Ground to help visitors find it | G14: 100
B15: Forecast income | C15: 3012 | F15: Tarmac coffin path patch updates | G15: 2000
B16: Total CIL leftover | C16: 37341 | F16: Village weather station | G16: 240
B17: Total cash leftover | C17: 9233 | F17: TOTAL excluding Woodland | G17: 34340
F18: TOTAL inc Woodland | G18: 29000
B19: If we go ahead with Tranquil Woods purchase and initial setup | C19: 38800
B20: Total CIL leftover | C20: £ -
B21: Total cash leftover | C21: 7775
B23: If we don’t go ahead with Tranquil Woods purchase and initial setup | C23: 1455
B24: Total CIL leftover | C24: 37341
B25: Total cash leftover | C25: 7778
